BEGIN:VCALENDAR
VERSION:2.0
PRODID:-//California Association for Infant Mental Health - ECPv6.15.20//NONSGML v1.0//EN
CALSCALE:GREGORIAN
METHOD:PUBLISH
X-WR-CALNAME:California Association for Infant Mental Health
X-ORIGINAL-URL:https://www.calaimh.org
X-WR-CALDESC:Events for California Association for Infant Mental Health
REFRESH-INTERVAL;VALUE=DURATION:PT1H
X-Robots-Tag:noindex
X-PUBLISHED-TTL:PT1H
BEGIN:VTIMEZONE
TZID:America/Los_Angeles
BEGIN:DAYLIGHT
TZOFFSETFROM:-0800
TZOFFSETTO:-0700
TZNAME:PDT
DTSTART:20250309T100000
END:DAYLIGHT
BEGIN:STANDARD
TZOFFSETFROM:-0700
TZOFFSETTO:-0800
TZNAME:PST
DTSTART:20251102T090000
END:STANDARD
BEGIN:DAYLIGHT
TZOFFSETFROM:-0800
TZOFFSETTO:-0700
TZNAME:PDT
DTSTART:20260308T100000
END:DAYLIGHT
BEGIN:STANDARD
TZOFFSETFROM:-0700
TZOFFSETTO:-0800
TZNAME:PST
DTSTART:20261101T090000
END:STANDARD
BEGIN:DAYLIGHT
TZOFFSETFROM:-0800
TZOFFSETTO:-0700
TZNAME:PDT
DTSTART:20270314T100000
END:DAYLIGHT
BEGIN:STANDARD
TZOFFSETFROM:-0700
TZOFFSETTO:-0800
TZNAME:PST
DTSTART:20271107T090000
END:STANDARD
END:VTIMEZONE
BEGIN:VEVENT
DTSTART;TZID=America/Los_Angeles:20260511T050000
DTEND;TZID=America/Los_Angeles:20260511T180000
DTSTAMP:20260424T194501
CREATED:20260416T042148Z
LAST-MODIFIED:20260416T042209Z
UID:3359-1778475600-1778522400@www.calaimh.org
SUMMARY:CalAIMH Training and Education
DESCRIPTION:
URL:https://www.calaimh.org/event/calaimh-training-and-education/
END:VEVENT
BEGIN:VEVENT
DTSTART;TZID=America/Los_Angeles:20260511T180000
DTEND;TZID=America/Los_Angeles:20260511T190000
DTSTAMP:20260424T194501
CREATED:20260416T042310Z
LAST-MODIFIED:20260416T042615Z
UID:3363-1778522400-1778526000@www.calaimh.org
SUMMARY:CalAIMH Policy and Advocacy
DESCRIPTION:
URL:https://www.calaimh.org/event/calaimh-policy-and-advocacy/
END:VEVENT
END:VCALENDAR