BEGIN:VCALENDAR
VERSION:2.0
PRODID:-//California Association for Infant Mental Health - ECPv6.15.20//NONSGML v1.0//EN
CALSCALE:GREGORIAN
METHOD:PUBLISH
X-ORIGINAL-URL:https://www.calaimh.org
X-WR-CALDESC:Events for California Association for Infant Mental Health
REFRESH-INTERVAL;VALUE=DURATION:PT1H
X-Robots-Tag:noindex
X-PUBLISHED-TTL:PT1H
BEGIN:VTIMEZONE
TZID:America/Los_Angeles
BEGIN:DAYLIGHT
TZOFFSETFROM:-0800
TZOFFSETTO:-0700
TZNAME:PDT
DTSTART:20250309T100000
END:DAYLIGHT
BEGIN:STANDARD
TZOFFSETFROM:-0700
TZOFFSETTO:-0800
TZNAME:PST
DTSTART:20251102T090000
END:STANDARD
BEGIN:DAYLIGHT
TZOFFSETFROM:-0800
TZOFFSETTO:-0700
TZNAME:PDT
DTSTART:20260308T100000
END:DAYLIGHT
BEGIN:STANDARD
TZOFFSETFROM:-0700
TZOFFSETTO:-0800
TZNAME:PST
DTSTART:20261101T090000
END:STANDARD
BEGIN:DAYLIGHT
TZOFFSETFROM:-0800
TZOFFSETTO:-0700
TZNAME:PDT
DTSTART:20270314T100000
END:DAYLIGHT
BEGIN:STANDARD
TZOFFSETFROM:-0700
TZOFFSETTO:-0800
TZNAME:PST
DTSTART:20271107T090000
END:STANDARD
END:VTIMEZONE
BEGIN:VEVENT
DTSTART;TZID=America/Los_Angeles:20260423T190000
DTEND;TZID=America/Los_Angeles:20260423T200000
DTSTAMP:20260424T181010
CREATED:20260414T023713Z
LAST-MODIFIED:20260414T023713Z
UID:3316-1776970800-1776974400@www.calaimh.org
SUMMARY:Re-imagining Resistance: A Monthly Reflective Space for Professionals
DESCRIPTION:The California Association for Infant Mental Health (CalAIMH) is proud to continue our thought-provoking series: “What is Resistance”. \nThis is not a traditional webinar; it is a virtual conversation designed for reflection. On the fourth Thursday of every month\, we gather to consider how resistance manifests in the field of infant mental health and the broader systems we navigate. \nWho leads this space?\nYou will hear from the diverse voices of our Communities of Practice Committee\, including Dr. Lynette Lively Cookson\, Dr. Richard Cohen\, Gaby Espinoza\, Maria Williams\, Dr. Vivian Tampkin\, Emily Sinsin\, and many more. \nWhy join us?\nUnderstanding resistance is key to promoting equity and healthy relational development. Whether it’s a signal of a protective force or a reaction to systemic harm\, we provide the space to unpack it together.
URL:https://www.calaimh.org/event/re-imagining-resistance-a-monthly-reflective-space-for-professionals/
END:VEVENT
END:VCALENDAR